BEGIN:VCALENDAR
VERSION:2.0
PRODID:-//www.ericksoncenter.org//NONSGML kigkonsult.se iCalcreator 2.30.10
 //
CALSCALE:GREGORIAN
METHOD:PUBLISH
UID:a69ec02b-1429-4a4d-b4b5-4b3cf3e15da0
X-WR-CALDESC:**REGISTRATION FOR STUDENTS GRADES 1-12 IS NOW OPEN**\n\nYour 
 student will audition for a role in 'The Frog Prince\, a musical retelling
  where a lonely Frog retrieves Princess Prim’s golden ball from a swamp in
  exchange for friendship. When the selfish princess tries to break her pro
 mise\, the Frog—aided by swamp creatures—teaches her that friendship is ea
 rned\, not bought.\n\nCall the ECA office Monday-Friday 10 am-4 pm to regi
 ster and for more information. REGISTRATION DEADLINE IS JUNE 15TH.\n\nAUDI
 TION DATE- MONDAY\, JUNE 22ND @ THE PINE PERFORMANCE CENTER 12 pm-2 pm\n\n
 Audition day will be followed by daily rehearsals the remainder of the wee
 k for most\, if not all cast members. \n\nPERFORMANCE DATE- JUNE 26 - The 
 Pine Performance Center SHOW TIMES -5:30 pm & 7:30 pm
X-WR-RELCALID:f3ae70d49b4dd5b1822df82332341b2d
X-WR-TIMEZONE:America/New_York
BEGIN:VTIMEZONE
TZID:America/New_York
BEGIN:STANDARD
TZNAME:EST
DTSTART:20251102T020000
TZOFFSETFROM:-0400
TZOFFSETTO:-0500
RDATE:20261101T020000
RDATE:20271107T020000
END:STANDARD
BEGIN:DAYLIGHT
TZNAME:EDT
DTSTART:20260308T020000
TZOFFSETFROM:-0500
TZOFFSETTO:-0400
RDATE:20270314T020000
END:DAYLIGHT
END:VTIMEZONE
BEGIN:VEVENT
UID:036be98f-f325-4db2-93f0-7289b0004a61
DTSTAMP:20260423T113633Z
DESCRIPTION:**REGISTRATION FOR STUDENTS GRADES 1-12 IS NOW OPEN**\n\nYour s
 tudent will audition for a role in 'The Frog Prince\, a musical retelling 
 where a lonely Frog retrieves Princess Prim’s golden ball from a swamp in 
 exchange for friendship. When the selfish princess tries to break her prom
 ise\, the Frog—aided by swamp creatures—teaches her that friendship is ear
 ned\, not bought.\n\nCall the ECA office Monday-Friday 10 am-4 pm to regis
 ter and for more information. REGISTRATION DEADLINE IS JUNE 15TH.\n\nAUDIT
 ION DATE- MONDAY\, JUNE 22ND @ THE PINE PERFORMANCE CENTER 12 pm-2 pm\n\nA
 udition day will be followed by daily rehearsals the remainder of the week
  for most\, if not all cast members. \n\nPERFORMANCE DATE- JUNE 26 - The P
 ine Performance Center SHOW TIMES -5:30 pm & 7:30 pm
DTSTART;TZID=America/New_York:20260622T120000
DTEND;TZID=America/New_York:20260622T140000
LOCATION:
SUMMARY:Missoula Children's Theater Auditions 'The Frog Prince'
END:VEVENT
END:VCALENDAR
